BEGIN:VCALENDAR
VERSION:2.0
PRODID:-//Deutsch-Norwegische Freundschaftsgesellschaft e.V.//NONSGML kigkonsult.se iCalcreator 2.41.92//
CALSCALE:GREGORIAN
METHOD:PUBLISH
UID:37323835-3864-4365-a661-616438396332
X-WR-CALNAME:iCagenda
X-WR-CALDESC:Event Management Extension for Joomla!
X-WR-RELCALID:3E26604A-50F4-4449-8B3E-E4F4932D05B5
X-WR-TIMEZONE:Europe/Berlin
BEGIN:VTIMEZONE
TZID:Europe/Berlin
TZUNTIL:20271031T010000Z
BEGIN:STANDARD
TZNAME:CET
DTSTART:20251026T030000
TZOFFSETFROM:+0200
TZOFFSETTO:+0100
RDATE:20261025T030000
END:STANDARD
BEGIN:DAYLIGHT
TZNAME:CEST
DTSTART:20250330T020000
TZOFFSETFROM:+0100
TZOFFSETTO:+0200
RDATE:20260329T020000
RDATE:20270328T020000
END:DAYLIGHT
END:VTIMEZONE
BEGIN:VEVENT
UID:38613333-3936-4536-b739-663138653539
DTSTAMP:20260422T091628Z
CATEGORIES:Externe Veranstaltungen
CLASS:PUBLIC
DESCRIPTION;ALTREP="CID:<FFFF__=0ABBE548DFE235B58f9e8a93d@coffeebean.com>":
 Foto: (c) Birgit Lutz\nArktischer Abend: Martin Denk – Ostgrönland. Eine K
 ajakexpedition im Schatten des Inlandeises\nWieder mal ein richtig großer 
 Abenteuervortrag! Martin Denk ist 2022 mit zwei Mitstreitern zu einer ehrg
 eizigen und lang geplanten Kajakexpedition an der unwirtlichen Ostküste di
 eser wundervollen Insel aufgebrochen: Von Tasiilaq im Osten bis nach Nanor
 talik im Südwesten Grönlands – ein Unternehmen\, das neben sehr viel Könne
 n und Ausdauer auch einiges an Wagemut erfordert.\nEinen Vorgeschmack auf 
 den Vortrag könnt Ihr hier sehen:\nTrailer Kajakexpedition Ostgrönlandhttp
 s://www.youtube.com/watch?v=Rj_QcplWgZQ\n1.350 Kilometer Menschenleere lie
 gen im Juni beim Start in Tasiilaq vor der Gruppe. Entlang der Strecke gib
 t es keine Siedlungen\, keinen Laden\, keine Straßen\; Verbindung zur Auße
 nwelt nur über ein Satellitentelefon. Stattdessen gibt es jede Menge Eis\,
  im Wasser und an Land\, bis der Süden Grönlands erreicht ist. Kaum eine G
 egend der Welt stellt seine Besucher vor so große Herausforderungen wie di
 ese Küste\, während sie gleichzeitig so abgeschieden und fern gewohnter In
 frastrukturen liegt: Ostgrönland ist gekennzeichnet durch unzugängliche\, 
 schroffe Küsten\, kilometerlange Gletscherabbrüche und vor allem Treibeis\
 , das im Frühjahr mit dem Ostgrönlandstrom entlang der Küste in den Süden 
 treibt. Etwas Grün findet sich nur im Inneren der Fjorde. Ein einziges Dep
 ot richtet die Gruppe vorab auf der Strecke ein.\nWeitere Informationen un
 d Tickets hier...\nhttps://polarshopbirgitlutz.de/products/arktischer-aben
 d-martin-denk-ostgronland-eine-kajakexpedition-am-rande-des-inlandeises
DTSTART:20260304T190000Z
DTEND:20260304T190000Z
GEO:00;0
LOCATION:Online
ORGANIZER:
SEQUENCE:1
SUMMARY:Arktischer Abend: Martin Denk – Ostgrönland
TRANSP:OPAQUE
URL:https://norwegenportal.de/component/icagenda/292-arktischer-abend-marti
 n-denk-ostgroenland/2026-03-04-20-00
END:VEVENT
END:VCALENDAR
